BEGIN:VCALENDAR
VERSION:2.0
PRODID:-//Faith in Action of Bloomington-Normal - ECPv6.15.20//NONSGML v1.0//EN
CALSCALE:GREGORIAN
METHOD:PUBLISH
X-WR-CALNAME:Faith in Action of Bloomington-Normal
X-ORIGINAL-URL:https://bnfia.org
X-WR-CALDESC:Events for Faith in Action of Bloomington-Normal
REFRESH-INTERVAL;VALUE=DURATION:PT1H
X-Robots-Tag:noindex
X-PUBLISHED-TTL:PT1H
BEGIN:VTIMEZONE
TZID:UTC
BEGIN:STANDARD
TZOFFSETFROM:+0000
TZOFFSETTO:+0000
TZNAME:UTC
DTSTART:20240101T000000
END:STANDARD
END:VTIMEZONE
BEGIN:VEVENT
DTSTART;TZID=UTC:20251202T130000
DTEND;TZID=UTC:20251202T143000
DTSTAMP:20260423T112247
CREATED:20241030T045530Z
LAST-MODIFIED:20251011T030358Z
UID:818-1764680400-1764685800@bnfia.org
SUMMARY:December 2025 Volunteer Orientation
DESCRIPTION:If you are interested in learning about volunteering or registering for Volunteer Orientation\, please call the Faith in Action Office at 309-827-7780 or email stacey@bnfia.org. Have you completed a Volunteer Interest Form?
URL:https://bnfia.org/event/december-2025-volunteer-orientation/
LOCATION:Faith in Action\, 600 East Willow #201\, Normal\, IL\, 61761\, United States
CATEGORIES:New Volunteer Orientations
ATTACH;FMTTYPE=image/png:https://bnfia.org/wp-content/uploads/2024/10/Love-our-volunteers-FB-24.png
END:VEVENT
END:VCALENDAR